BEGIN:VCALENDAR
VERSION:2.0
PRODID:-//hacksw/handcal//NONSGML v1.0//EN
BEGIN:VEVENT
SUMMARY:!!!! Competition du Club !!!!
UID:4d5a9582-97a6-45bc-8698-4b7ec7c4d620
DTSTART:20260607T063000Z
DTEND:20260607T154500Z
LOCATION:Bourg Saint-Bernard Complexe sportif Robert de Laplagnolle, salle polyvalente Bourg-Saint-Bernard 31570 Bourg Saint-Bernard
CATEGORIES:Sportif
STATUS:
DESCRIPTION:<p>Informations a venir</p>
URL;VALUE=URI:https://www.jc-coeur-lauragais.com/evenements/2026/06/07/competition-du-club-2426632
END:VEVENT
END:VCALENDAR
