BEGIN:VCALENDAR
VERSION:2.0
PRODID:-//hacksw/handcal//NONSGML v1.0//EN
BEGIN:VEVENT
SUMMARY:Tournoi poussin a Martres Tolosane
UID:d9dc4db3-cfad-4aeb-8ca4-90a10d6cdc9a
DTSTART:20260502T070000Z
DTEND:20260502T093000Z
LOCATION:Localisation Gymnase, Rue du stade 31220 Martres-Tolosane
CATEGORIES:Sportif
STATUS:
URL;VALUE=URI:https://www.jc-coeur-lauragais.com/evenements/2026/05/02/tournoi-poussin-a-martres-tolosane-2443953
END:VEVENT
END:VCALENDAR
