BEGIN:VCALENDAR
VERSION:2.0
PRODID:-//hacksw/handcal//NONSGML v1.0//EN
BEGIN:VEVENT
SUMMARY:Stage de Paques_6 - 12ans
UID:d3c5cc1c-cc87-497e-a477-6ef372fd8314
DTSTART:20260427T070000Z
DTEND:20260428T153000Z
LOCATION:Bourg Saint-Bernard Complexe sportif Robert de Laplagnolle, salle polyvalente Bourg-Saint-Bernard 31570 Bourg Saint-Bernard
CATEGORIES:Stage
STATUS:
DESCRIPTION:<p><u><strong><span style="font-size:18px;">Stage
 multiactivites : judo, foot, jeux
 divers</span></strong></u></p>
 
 <p><span
 style="font-size:14px;"><strong><span style="color:#c0392b;">Accueil
 des participant : 8h - 18h</span></strong></span></p>
 
 <p><span
 style="font-size:14px;">Pour qui ? => <strong>Les licensies 6 -
 12ans</strong></span></p>
 
 <p><span style="font-size:14px;"><u>A
 prevoir :</u></span></p>
 
 <ul>
 	<li><span style="font-size:14px;">Le
 judogi / claquettes / tenue de sport / gourde</span></li>
 	<li><span
 style="font-size:14px;">Repas du
 midi</span></li>
 </ul>
 
 <p> </p>
 
 <p><span
 style="font-size:16px;"><u><strong>Tarifs (le gouter est compris)
 :</strong></u></span></p>
 
 <p><span style="font-size:14px;">Tarifs
 individuel :</span></p>
 
 <ul>
 	<li><span style="font-size:14px;">1
 jour : 15€</span></li>
 	<li><span style="font-size:14px;">2 jours :
 25€</span></li>
 </ul>
 
 <p><span style="font-size:14px;">Tarif
 familial (2 enfants) :</span></p>
 
 <ul>
 	<li><span
 style="font-size:14px;">1 jour : 25€</span></li>
 	<li><span
 style="font-size:14px;">2 jours : 45€</span></li>
 </ul>
 
 <p> </p>
URL;VALUE=URI:https://www.jc-coeur-lauragais.com/evenements/2026/04/27/stage-de-paques-6-12ans-2443949
END:VEVENT
END:VCALENDAR
