BEGIN:VCALENDAR
VERSION:2.0
PRODID:-//hacksw/handcal//NONSGML v1.0//EN
BEGIN:VEVENT
SUMMARY:Stage des vacances d'avril
UID:4499ea4a-d712-438a-891e-ebdc845ca643
DTSTART:20260418T070000Z
DTEND:20260419T150000Z
LOCATION:Caraman 189 Lot. Lasserre 31460  Caraman
CATEGORIES:Stage
STATUS:
DESCRIPTION:<p>Informations a venir</p>
URL;VALUE=URI:https://www.jc-coeur-lauragais.com/evenements/2026/04/18/stage-des-vacances-davril-2426631
END:VEVENT
END:VCALENDAR
