BEGIN:VCALENDAR
VERSION:2.0
PRODID:-//hacksw/handcal//NONSGML v1.0//EN
BEGIN:VEVENT
SUMMARY:Cours Commun
UID:61e69b70-1d44-49d0-85b6-a060d662da09
DTSTART:20260410T160000Z
DTEND:20260410T220000Z
LOCATION:Caraman 189 Lot. Lasserre 31460  Caraman
CATEGORIES:Entrainement
STATUS:
DESCRIPTION:<p><strong>Bonjour a tous,</strong></p>
 
 <p>Cette annee,
 nous avons le plaisir d’organiser un <strong>cours commun
 reunissant toutes les generations de notre club</strong>, des plus
 jeunes judokas aux adultes !</p>
 
 <p>L’objectif de ce moment
 particulier est de <strong>permettre aux petits et aux grands de se
 retrouver sur le tatami</strong>, de partager leur passion du judo et
 de <strong>renforcer les liens qui font la force de notre
 club</strong>. Ces echanges entre generations contribuent aussi a
 creer une belle dynamique et une meilleure cohesion lors des
 rencontres et competitions amicales.</p>
 
 <p>Cet evenement est
 egalement l’occasion pour <strong>les parents de participer a la
 vie du club</strong> et de partager un moment convivial avec les
 judokas.</p>
 
 <p>📅 <strong>Rendez-vous le 10 avril
 2026</strong><br>
 🕕 <strong>Debut du cours a 18h pour tout le
 monde</strong> (Baby, moyens et adultes) pour <strong>1 heure
 d’entrainement tous ensemble</strong>.</p>
 
 <p>A l’issue du
 cours, nous prolongerons la soiree autour d’un <strong>repas
 convivial sous forme d’auberge espagnole</strong>, afin de partager
 un bon moment tous ensemble.</p>
 
 <p>👉 <strong>Parents et judokas,
 nous comptons sur vous pour apporter quelques bonnes victuailles et
 boissons a partager !</strong></p>
 
 <p>Nous esperons vous voir
 nombreux pour ce moment sportif et convivial qui reflete si bien
 l’esprit du judo et de notre club.</p>
 
 <p><strong>A tres bientot
 sur le tatami !</strong></p>
URL;VALUE=URI:https://www.jc-coeur-lauragais.com/evenements/2026/04/10/cours-commun-2426380
END:VEVENT
END:VCALENDAR
